BEGIN:VCALENDAR
VERSION:2.0
PRODID:-//ChamberMaster//Event Calendar 2.0//EN
METHOD:PUBLISH
X-PUBLISHED-TTL:P3D
REFRESH-INTERVAL:P3D
CALSCALE:GREGORIAN
BEGIN:VEVENT
DTSTART:20260425T160000Z
DTEND:20260425T173000Z
X-MICROSOFT-CDO-ALLDAYEVENT:FALSE
SUMMARY:Wellness Morning with the Pico Improvement Organization!
DESCRIPTION:Good Body Pilates is proud to participate in an upcoming Pico Wellness Event hosted by the Pico Improvement Organization.\n\nSaturday\, April 25\n\n9:00 10:30 AM\n\nat Virginia Avenue Park (Pico Blvd./Cloverfield entrance)\n\nThis free\, community-focused event brings together local wellness businesses including Good Body Pilates\, Spry Fitness\, and Blue Republic for a morning of movement\, connection\, and neighborhood engagement.\n\nAttendees can enjoy:\n\n  Live wellness and fitness classes\n\n  Opportunities to meet and connect with local businesses\n\n  A welcoming\, all-levels environment\n\nThe event is open to the public and designed to support community health while highlighting small businesses along the Pico corridor.\n\nFree to attend. All are welcome.\n\nSign up here: https://docs.google.com/forms/d/e/1FAIpQLSd4d2RDAb9FP0LIU2cd3yx7nTQgCz1HZbYbnkEvffXHyYZlEw/viewform?pli=1
X-ALT-DESC;FMTTYPE=text/html:<p>Good Body Pilates is proud to participate in an upcoming Pico Wellness Event hosted by the Pico Improvement Organization.</p>\n\n<p>Saturday\, April 25<br />\n9:00&ndash\;10:30 AM<br />\nat Virginia Avenue Park (Pico Blvd./Cloverfield entrance)</p>\n\n<p>This free\, community-focused event brings together local wellness businesses including Good Body Pilates\, Spry Fitness\, and Blue Republic for a morning of movement\, connection\, and neighborhood engagement.</p>\n\n<p>Attendees can enjoy:<br />\n&bull\; Live wellness and fitness classes<br />\n&bull\; Opportunities to meet and connect with local businesses<br />\n&bull\; A welcoming\, all-levels environment</p>\n\n<p>The event is open to the public and designed to support community health while highlighting small businesses along the Pico corridor.</p>\n\n<p><strong>Free to attend. All are welcome.</strong></p>\n\n<p>Sign up here:&nbsp\;https://docs.google.com/forms/d/e/1FAIpQLSd4d2RDAb9FP0LIU2cd3yx7nTQgCz1HZbYbnkEvffXHyYZlEw/viewform?pli=1</p>\n
LOCATION:Virginia Avenue Park (Pico Blvd./Cloverfield entrance)
UID:e.648.26576
SEQUENCE:3
DTSTAMP:20260420T200641Z
URL:http://members.smchamber.zanityusagolivetest.com/events/details/wellness-morning-with-the-pico-improvement-organization-26576
END:VEVENT

END:VCALENDAR
