BEGIN:VCALENDAR
VERSION:2.0
PRODID:-//ChamberMaster//Event Calendar 2.0//EN
METHOD:PUBLISH
X-PUBLISHED-TTL:P3D
REFRESH-INTERVAL:P3D
CALSCALE:GREGORIAN
BEGIN:VEVENT
DTSTART:20260509T010000Z
DTEND:20260509T030000Z
X-MICROSOFT-CDO-ALLDAYEVENT:FALSE
SUMMARY:BLOOM: A Floral Arrangement Masterclass
DESCRIPTION:Under the guidance of an expert florist from our partners at FlowerBX\, guests will select fresh\, seasonal blooms to craft a bespoke arrangement\, learning techniques to create elegant displays.\n\n\n\n \n\n\n\nEach guest departs with their unique creation\, a tangible memory of their artisanal craft.\n\n\n\n \n\n\n\nThis thoughtful experience empowers guests to unwind\, fostering a sense of calm and creativity while engaging with the natural beauty of Santa Monica.\n\n\n\n \n\n\nCelebrate Mother's Day with an inspired way to spend time together while creating a beautiful floral arrangement to take home.\n\n\n\nReserve Now: https://santamonica.regenthotels.com/bookable-experiences#!/event/019cde02-41eb-737c-99a2-b94a8c1d0563
X-ALT-DESC;FMTTYPE=text/html:<div>\n<div>Under the guidance of an expert florist from our partners at <a class="sc-f83e8048-0 gDBbUb link" href="https://www.flowerbx.com/us/" rel="noopener noreferrer" style="margin: 0px\; box-sizing: border-box\; scrollbar-width: thin\; scrollbar-color: rgba(25\, 25\, 26\, 0.05) rgba(0\, 0\, 0\, 0)\; display: inline-block\; color: black\;" target="_blank">FlowerBX</a>\, guests will select fresh\, seasonal blooms to craft a bespoke arrangement\, learning techniques to create elegant displays.</div>\n</div>\n\n<div>\n<div>&nbsp\;</div>\n</div>\n\n<div>\n<div>Each guest departs with their unique creation\, a tangible memory of their artisanal craft.</div>\n</div>\n\n<div>\n<div>&nbsp\;</div>\n</div>\n\n<div>\n<div>This thoughtful experience empowers guests to unwind\, fostering a sense of calm and creativity while engaging with the natural beauty of Santa Monica.</div>\n</div>\n\n<div>\n<div>&nbsp\;</div>\n</div>\n\n<div>Celebrate Mother&#39\;s Day with an inspired way to spend time together while creating a beautiful floral arrangement to take home.<br />\n<br />\nReserve Now:&nbsp\;https://santamonica.regenthotels.com/bookable-experiences#!/event/019cde02-41eb-737c-99a2-b94a8c1d0563</div>\n
LOCATION:Regent Santa Monica Beach 1700 Ocean Ave Santa Monica\, CA 90401
UID:e.648.26574
SEQUENCE:3
DTSTAMP:20260419T125923Z
URL:https://members.smchamber.zanityusagolivetest.com/events/details/bloom-a-floral-arrangement-masterclass-26574
END:VEVENT

END:VCALENDAR
