BEGIN:VCALENDAR
VERSION:2.0
PRODID:-//ChamberMaster//Event Calendar 2.0//EN
METHOD:PUBLISH
X-PUBLISHED-TTL:P3D
REFRESH-INTERVAL:P3D
CALSCALE:GREGORIAN
BEGIN:VEVENT
DTSTART:20260509T163000Z
DTEND:20260509T180000Z
X-MICROSOFT-CDO-ALLDAYEVENT:FALSE
SUMMARY:Jump for Joy
DESCRIPTION:Jump for Joy: Breathe. Bounce. Build. Flow.\n\n\n\nCelebrate Mother's Day with Z Bounce Fitness\, a method-driven rebounder workout that blends mindfulness\, cardio\, strength\, and flow.\n\nLed by Heather Dawn\, this full-body experience is designed to energize\, uplift\, and leave you feeling strong\, clear\, and connected.\n\nWhether you're honoring yourself or celebrating the moms in your life\, come jump\, sweat\, and share the joy together in a supportive atmosphere.\n\nA workout that feels like play. All levels welcome.\n\nThe Morning Includes:\n\n\n	Z Bounce Fitness Workshop\n	Curated Gift Bag of Wellness Products\n\nTickets available via Eventbrite: https://www.eventbrite.com/e/jump-for-joy-tickets-1987100538201?utm-campaign=social&utm-content=attendeeshare&utm-medium=discovery&utm-term=listing&utm-source=cp&aff=ebdsshcopyurl
X-ALT-DESC;FMTTYPE=text/html:<div>\n<p><strong>Jump for Joy: Breathe. Bounce. Build. Flow.</strong></p>\n</div>\n\n<div>\n<p>Celebrate Mother&rsquo\;s Day with Z Bounce Fitness\, a method-driven rebounder workout that blends mindfulness\, cardio\, strength\, and flow.</p>\n\n<p>Led by Heather Dawn\, this full-body experience is designed to energize\, uplift\, and leave you feeling strong\, clear\, and connected.</p>\n\n<p>Whether you&rsquo\;re honoring yourself or celebrating the moms in your life\, come jump\, sweat\, and share the joy together in a supportive atmosphere.</p>\n\n<p>A workout that feels like play. All levels welcome.</p>\n\n<p>The Morning Includes:</p>\n\n<ul>\n	<li>Z Bounce Fitness Workshop</li>\n	<li>Curated Gift Bag of Wellness Products</li>\n</ul>\nTickets available via Eventbrite:&nbsp\;<a href="https://www.eventbrite.com/e/jump-for-joy-tickets-1987100538201?utm-campaign=social&amp\;utm-content=attendeeshare&amp\;utm-medium=discovery&amp\;utm-term=listing&amp\;utm-source=cp&amp\;aff=ebdsshcopyurl">https://www.eventbrite.com/e/jump-for-joy-tickets-1987100538201?utm-campaign=social&amp\;utm-content=attendeeshare&amp\;utm-medium=discovery&amp\;utm-term=listing&amp\;utm-source=cp&amp\;aff=ebdsshcopyurl</a><br />\n&nbsp\;</div>\n
LOCATION:Regent Santa Monica 1700 Ocean Ave Santa Monica\, CA 9041
UID:e.648.26575
SEQUENCE:3
DTSTAMP:20260419T125303Z
URL:https://members.smchamber.zanityusagolivetest.com/events/details/jump-for-joy-26575
END:VEVENT

END:VCALENDAR
