BEGIN:VCALENDAR
VERSION:2.0
PRODID:-//ChamberMaster//Event Calendar 2.0//EN
METHOD:PUBLISH
X-PUBLISHED-TTL:P3D
REFRESH-INTERVAL:P3D
CALSCALE:GREGORIAN
BEGIN:VEVENT
DTSTART:20221026T230000Z
DTEND:20221027T000000Z
X-MICROSOFT-CDO-ALLDAYEVENT:FALSE
SUMMARY:Mobility and Transportation Policy Committee
DESCRIPTION:Please join us Wednesday October 26 at 4:00 pm for the launch of our mobility policy committee.\n\n\n \n\nWe will discuss thoughts and plans for this committee and welcome your feedback about the best way to move it forward. As Chamber members\, every employee within your organization is a member of the Chamber and welcome to attend.\n\n \n\nParticularly\, if you have colleagues or staff who focus on legislation\, regulations\, government affairs\, or public policy\, please feel free to invite them to this meeting.
X-ALT-DESC;FMTTYPE=text/html:<div style="border: 0px\; font-variant-numeric: inherit\; font-variant-east-asian: inherit\; font-stretch: inherit\; font-size: 16px\; line-height: inherit\; font-family: Calibri\, Arial\, Helvetica\, sans-serif\; margin: 0px\; padding: 0px\; vertical-align: baseline\; color: black\;">Please join us&nbsp\;<b>Wednesday&nbsp\;</b><b>October 26 at 4:00 pm</b>&nbsp\;for the launch of our mobility policy committee.</div>\n\n<div style="border: 0px\; font-variant-numeric: inherit\; font-variant-east-asian: inherit\; font-stretch: inherit\; font-size: 16px\; line-height: inherit\; font-family: Calibri\, Arial\, Helvetica\, sans-serif\; margin: 0px\; padding: 0px\; vertical-align: baseline\; color: black\;">\n<div style="border: 0px\; font: inherit\; margin: 0px\; padding: 0px\; vertical-align: baseline\; color: inherit\;">&nbsp\;</div>\n\n<div style="border: 0px\; font: inherit\; margin: 0px\; padding: 0px\; vertical-align: baseline\; color: inherit\;">We will discuss thoughts and plans for this committee and welcome your feedback about the best way to move it forward. As Chamber members\, every employee within your organization is a member of the Chamber and welcome to attend.</div>\n\n<div style="border: 0px\; font: inherit\; margin: 0px\; padding: 0px\; vertical-align: baseline\; color: inherit\;">&nbsp\;</div>\n</div>\n<span style="border: 0px\; font-variant-numeric: inherit\; font-variant-east-asian: inherit\; font-stretch: inherit\; font-size: 16px\; line-height: inherit\; font-family: Calibri\, Arial\, Helvetica\, sans-serif\; margin: 0px\; padding: 0px\; vertical-align: baseline\; color: black\;">Particularly\, if you have colleagues or staff who focus on legislation\, regulations\, government affairs\, or public policy\, please feel free to invite them to this meeting.</span>
LOCATION:
UID:e.648.18679
SEQUENCE:3
DTSTAMP:20260422T020230Z
URL:https://members.smchamber.zanityusagolivetest.com/events/details/mobility-and-transportation-policy-committee-18679
END:VEVENT

END:VCALENDAR
